BEGIN:VCALENDAR
VERSION:2.0
PRODID:-//Fenwick Inn - ECPv6.15.0//NONSGML v1.0//EN
CALSCALE:GREGORIAN
METHOD:PUBLISH
X-ORIGINAL-URL:https://fenwickinn.com
X-WR-CALDESC:Events for Fenwick Inn
REFRESH-INTERVAL;VALUE=DURATION:PT1H
X-Robots-Tag:noindex
X-PUBLISHED-TTL:PT1H
BEGIN:VTIMEZONE
TZID:UTC
BEGIN:STANDARD
TZOFFSETFROM:+0000
TZOFFSETTO:+0000
TZNAME:UTC
DTSTART:20250101T000000
END:STANDARD
END:VTIMEZONE
BEGIN:VEVENT
DTSTART;TZID=UTC:20250427T120000
DTEND;TZID=UTC:20250427T120000
DTSTAMP:20260421T052527
CREATED:20250415T121303Z
LAST-MODIFIED:20250415T131846Z
UID:10000939-1745755200-1745755200@fenwickinn.com
SUMMARY:Sunday Bingo
DESCRIPTION:Spend a fun Sunday afternoon playing Bingo with friends at Coins Pub and Restaurant from 12 PM to 3 PM. Grab some lunch and get ready to play Bingo.  Happy Hour Entree and Drink SPecials\, 2pm.
URL:https://fenwickinn.com/event/sunday-bingo-3/
LOCATION:Coins Pub and Restaurant\, 2820 Philadelphia Ave\, Ocean City\, MD
ATTACH;FMTTYPE=image/jpeg:https://fenwickinn.com/wp-content/uploads/2025/04/bingo_ball_hopper_710444691.jpg
END:VEVENT
END:VCALENDAR