BEGIN:VCALENDAR
VERSION:2.0
PRODID:-//Fenwick Inn - ECPv6.15.0//NONSGML v1.0//EN
CALSCALE:GREGORIAN
METHOD:PUBLISH
X-WR-CALNAME:Fenwick Inn
X-ORIGINAL-URL:https://fenwickinn.com
X-WR-CALDESC:Events for Fenwick Inn
REFRESH-INTERVAL;VALUE=DURATION:PT1H
X-Robots-Tag:noindex
X-PUBLISHED-TTL:PT1H
BEGIN:VTIMEZONE
TZID:UTC
BEGIN:STANDARD
TZOFFSETFROM:+0000
TZOFFSETTO:+0000
TZNAME:UTC
DTSTART:20250101T000000
END:STANDARD
END:VTIMEZONE
BEGIN:VEVENT
DTSTART;TZID=UTC:20250411T170000
DTEND;TZID=UTC:20250412T210000
DTSTAMP:20260419T183559
CREATED:20250415T115952Z
LAST-MODIFIED:20250415T131234Z
UID:10000912-1744390800-1744491600@fenwickinn.com
SUMMARY:Phil Perdue - "The Piano Man"
DESCRIPTION:Enjoy Phil Perdue “The Piano Man” on the grand piano at the Captain’s Table in Ocean City\, Maryland.  Enjoy fine dining at its best with South African lobster tails\, delicious crab cakes\, certified angus beef steaks and great selection from the bar. Phil’s smooth sounds on the grand piano are a local’s favorite on Friday and Saturday nights.
URL:https://fenwickinn.com/event/phil-perdue-the-piano-man/
LOCATION:Captain’s Table Restaurant and Bar\, 2 15th St\, Ocean City\, MD
ATTACH;FMTTYPE=image/jpeg:https://fenwickinn.com/wp-content/uploads/2025/04/piano_keys_.jpg
END:VEVENT
BEGIN:VEVENT
DTSTART;TZID=UTC:20250411T170000
DTEND;TZID=UTC:20250411T170000
DTSTAMP:20260419T183559
CREATED:20250415T115953Z
LAST-MODIFIED:20250415T130427Z
UID:10000913-1744390800-1744390800@fenwickinn.com
SUMMARY:Element K
DESCRIPTION:Element K moves seamlessly between multiple genres and performs some of your favorite classics\, in addition  to the hottest new songs–not to mention some cool surprises along the way!
URL:https://fenwickinn.com/event/element-k/
LOCATION:Seacrets\, 117 49th St\, Ocean City\, MD
ATTACH;FMTTYPE=image/jpeg:https://fenwickinn.com/wp-content/uploads/2025/04/band_audience_waving_hands_amber_glow.jpg
END:VEVENT
BEGIN:VEVENT
DTSTART;TZID=UTC:20250411T160000
DTEND;TZID=UTC:20250411T160000
DTSTAMP:20260419T183559
CREATED:20250415T115952Z
LAST-MODIFIED:20250415T131524Z
UID:10000911-1744387200-1744387200@fenwickinn.com
SUMMARY:Monkee Paw
DESCRIPTION:Monkee Paw will play at Skye Bar and Grille in Ocean City tonight!  Monkee Paw’s music ranges from quartet arrangements\, and has spent almost a decade performing in Ocean City. Their music spans a wide variety of genres\, with a strong focus on vocal harmony and musicianship. \nHappy hour is from 3-6pm and features specials such as $1 Oysters\, 1 1/4 pound lobsters for $26.  Happy hour drink specials include $7.00 Smirnoff Crushes\, $5.50 Rails\, $1 Off Drafts and $6.00 House Wines.
URL:https://fenwickinn.com/event/monkee-paw/
LOCATION:Skye Bar & Grille\, 6601 Coastal Hwy\, Ocean City\, MD
ATTACH;FMTTYPE=image/jpeg:https://fenwickinn.com/wp-content/uploads/2025/04/band_acoustic_guitar_being_played.jpg
END:VEVENT
BEGIN:VEVENT
DTSTART;TZID=UTC:20250329T080000
DTEND;TZID=UTC:20250329T210000
DTSTAMP:20260419T183559
CREATED:20250318T180238Z
LAST-MODIFIED:20250318T181115Z
UID:10000856-1743235200-1743282000@fenwickinn.com
SUMMARY:$25\,000 Vault of Riches
DESCRIPTION:Get Lucky with A Chance to Win $25\,000 at Ocean Downs Casino \nEARN ENTRIES TUESDAYS–SUNDAYS • MARCH 1–29 \n100 POINTS = 1 Entry \nGRAND PRIZE DRAWING SATURDAY\, MARCH 29 • 9PM \nPLUS\, Club Ocean members can redeem one digital scratch card for every 100 points earned to win PRIZES!
URL:https://fenwickinn.com/event/25000-vault-of-riches/2025-03-29/
LOCATION:Ocean Downs Casino\, 10218 Racetrack Rd\, Berlin\, MD
CATEGORIES:OC Events
ATTACH;FMTTYPE=image/png:https://fenwickinn.com/wp-content/uploads/2025/03/cards-and-chips-in-sand.png
END:VEVENT
BEGIN:VEVENT
DTSTART;TZID=UTC:20250328T080000
DTEND;TZID=UTC:20250328T210000
DTSTAMP:20260419T183559
CREATED:20250318T180238Z
LAST-MODIFIED:20250318T181115Z
UID:10000855-1743148800-1743195600@fenwickinn.com
SUMMARY:$25\,000 Vault of Riches
DESCRIPTION:Get Lucky with A Chance to Win $25\,000 at Ocean Downs Casino \nEARN ENTRIES TUESDAYS–SUNDAYS • MARCH 1–29 \n100 POINTS = 1 Entry \nGRAND PRIZE DRAWING SATURDAY\, MARCH 29 • 9PM \nPLUS\, Club Ocean members can redeem one digital scratch card for every 100 points earned to win PRIZES!
URL:https://fenwickinn.com/event/25000-vault-of-riches/2025-03-28/
LOCATION:Ocean Downs Casino\, 10218 Racetrack Rd\, Berlin\, MD
CATEGORIES:OC Events
ATTACH;FMTTYPE=image/png:https://fenwickinn.com/wp-content/uploads/2025/03/cards-and-chips-in-sand.png
END:VEVENT
BEGIN:VEVENT
DTSTART;TZID=UTC:20250327T080000
DTEND;TZID=UTC:20250327T210000
DTSTAMP:20260419T183559
CREATED:20250318T180238Z
LAST-MODIFIED:20250318T181115Z
UID:10000854-1743062400-1743109200@fenwickinn.com
SUMMARY:$25\,000 Vault of Riches
DESCRIPTION:Get Lucky with A Chance to Win $25\,000 at Ocean Downs Casino \nEARN ENTRIES TUESDAYS–SUNDAYS • MARCH 1–29 \n100 POINTS = 1 Entry \nGRAND PRIZE DRAWING SATURDAY\, MARCH 29 • 9PM \nPLUS\, Club Ocean members can redeem one digital scratch card for every 100 points earned to win PRIZES!
URL:https://fenwickinn.com/event/25000-vault-of-riches/2025-03-27/
LOCATION:Ocean Downs Casino\, 10218 Racetrack Rd\, Berlin\, MD
CATEGORIES:OC Events
ATTACH;FMTTYPE=image/png:https://fenwickinn.com/wp-content/uploads/2025/03/cards-and-chips-in-sand.png
END:VEVENT
BEGIN:VEVENT
DTSTART;TZID=UTC:20250326T080000
DTEND;TZID=UTC:20250326T210000
DTSTAMP:20260419T183559
CREATED:20250318T180238Z
LAST-MODIFIED:20250318T181115Z
UID:10000853-1742976000-1743022800@fenwickinn.com
SUMMARY:$25\,000 Vault of Riches
DESCRIPTION:Get Lucky with A Chance to Win $25\,000 at Ocean Downs Casino \nEARN ENTRIES TUESDAYS–SUNDAYS • MARCH 1–29 \n100 POINTS = 1 Entry \nGRAND PRIZE DRAWING SATURDAY\, MARCH 29 • 9PM \nPLUS\, Club Ocean members can redeem one digital scratch card for every 100 points earned to win PRIZES!
URL:https://fenwickinn.com/event/25000-vault-of-riches/2025-03-26/
LOCATION:Ocean Downs Casino\, 10218 Racetrack Rd\, Berlin\, MD
CATEGORIES:OC Events
ATTACH;FMTTYPE=image/png:https://fenwickinn.com/wp-content/uploads/2025/03/cards-and-chips-in-sand.png
END:VEVENT
BEGIN:VEVENT
DTSTART;TZID=UTC:20250325T080000
DTEND;TZID=UTC:20250325T210000
DTSTAMP:20260419T183559
CREATED:20250318T180238Z
LAST-MODIFIED:20250318T181115Z
UID:10000852-1742889600-1742936400@fenwickinn.com
SUMMARY:$25\,000 Vault of Riches
DESCRIPTION:Get Lucky with A Chance to Win $25\,000 at Ocean Downs Casino \nEARN ENTRIES TUESDAYS–SUNDAYS • MARCH 1–29 \n100 POINTS = 1 Entry \nGRAND PRIZE DRAWING SATURDAY\, MARCH 29 • 9PM \nPLUS\, Club Ocean members can redeem one digital scratch card for every 100 points earned to win PRIZES!
URL:https://fenwickinn.com/event/25000-vault-of-riches/2025-03-25/
LOCATION:Ocean Downs Casino\, 10218 Racetrack Rd\, Berlin\, MD
CATEGORIES:OC Events
ATTACH;FMTTYPE=image/png:https://fenwickinn.com/wp-content/uploads/2025/03/cards-and-chips-in-sand.png
END:VEVENT
BEGIN:VEVENT
DTSTART;TZID=UTC:20250324T080000
DTEND;TZID=UTC:20250324T210000
DTSTAMP:20260419T183559
CREATED:20250318T180238Z
LAST-MODIFIED:20250318T181115Z
UID:10000851-1742803200-1742850000@fenwickinn.com
SUMMARY:$25\,000 Vault of Riches
DESCRIPTION:Get Lucky with A Chance to Win $25\,000 at Ocean Downs Casino \nEARN ENTRIES TUESDAYS–SUNDAYS • MARCH 1–29 \n100 POINTS = 1 Entry \nGRAND PRIZE DRAWING SATURDAY\, MARCH 29 • 9PM \nPLUS\, Club Ocean members can redeem one digital scratch card for every 100 points earned to win PRIZES!
URL:https://fenwickinn.com/event/25000-vault-of-riches/2025-03-24/
LOCATION:Ocean Downs Casino\, 10218 Racetrack Rd\, Berlin\, MD
CATEGORIES:OC Events
ATTACH;FMTTYPE=image/png:https://fenwickinn.com/wp-content/uploads/2025/03/cards-and-chips-in-sand.png
END:VEVENT
BEGIN:VEVENT
DTSTART;TZID=UTC:20250323T080000
DTEND;TZID=UTC:20250323T210000
DTSTAMP:20260419T183559
CREATED:20250318T180238Z
LAST-MODIFIED:20250318T181115Z
UID:10000850-1742716800-1742763600@fenwickinn.com
SUMMARY:$25\,000 Vault of Riches
DESCRIPTION:Get Lucky with A Chance to Win $25\,000 at Ocean Downs Casino \nEARN ENTRIES TUESDAYS–SUNDAYS • MARCH 1–29 \n100 POINTS = 1 Entry \nGRAND PRIZE DRAWING SATURDAY\, MARCH 29 • 9PM \nPLUS\, Club Ocean members can redeem one digital scratch card for every 100 points earned to win PRIZES!
URL:https://fenwickinn.com/event/25000-vault-of-riches/2025-03-23/
LOCATION:Ocean Downs Casino\, 10218 Racetrack Rd\, Berlin\, MD
CATEGORIES:OC Events
ATTACH;FMTTYPE=image/png:https://fenwickinn.com/wp-content/uploads/2025/03/cards-and-chips-in-sand.png
END:VEVENT
BEGIN:VEVENT
DTSTART;TZID=UTC:20250322T080000
DTEND;TZID=UTC:20250322T210000
DTSTAMP:20260419T183559
CREATED:20250318T180238Z
LAST-MODIFIED:20250318T181115Z
UID:10000849-1742630400-1742677200@fenwickinn.com
SUMMARY:$25\,000 Vault of Riches
DESCRIPTION:Get Lucky with A Chance to Win $25\,000 at Ocean Downs Casino \nEARN ENTRIES TUESDAYS–SUNDAYS • MARCH 1–29 \n100 POINTS = 1 Entry \nGRAND PRIZE DRAWING SATURDAY\, MARCH 29 • 9PM \nPLUS\, Club Ocean members can redeem one digital scratch card for every 100 points earned to win PRIZES!
URL:https://fenwickinn.com/event/25000-vault-of-riches/2025-03-22/
LOCATION:Ocean Downs Casino\, 10218 Racetrack Rd\, Berlin\, MD
CATEGORIES:OC Events
ATTACH;FMTTYPE=image/png:https://fenwickinn.com/wp-content/uploads/2025/03/cards-and-chips-in-sand.png
END:VEVENT
BEGIN:VEVENT
DTSTART;TZID=UTC:20250321T080000
DTEND;TZID=UTC:20250321T210000
DTSTAMP:20260419T183559
CREATED:20250318T180238Z
LAST-MODIFIED:20250318T181115Z
UID:10000848-1742544000-1742590800@fenwickinn.com
SUMMARY:$25\,000 Vault of Riches
DESCRIPTION:Get Lucky with A Chance to Win $25\,000 at Ocean Downs Casino \nEARN ENTRIES TUESDAYS–SUNDAYS • MARCH 1–29 \n100 POINTS = 1 Entry \nGRAND PRIZE DRAWING SATURDAY\, MARCH 29 • 9PM \nPLUS\, Club Ocean members can redeem one digital scratch card for every 100 points earned to win PRIZES!
URL:https://fenwickinn.com/event/25000-vault-of-riches/2025-03-21/
LOCATION:Ocean Downs Casino\, 10218 Racetrack Rd\, Berlin\, MD
CATEGORIES:OC Events
ATTACH;FMTTYPE=image/png:https://fenwickinn.com/wp-content/uploads/2025/03/cards-and-chips-in-sand.png
END:VEVENT
BEGIN:VEVENT
DTSTART;TZID=UTC:20250320T080000
DTEND;TZID=UTC:20250320T210000
DTSTAMP:20260419T183559
CREATED:20250318T180238Z
LAST-MODIFIED:20250318T181115Z
UID:10000847-1742457600-1742504400@fenwickinn.com
SUMMARY:$25\,000 Vault of Riches
DESCRIPTION:Get Lucky with A Chance to Win $25\,000 at Ocean Downs Casino \nEARN ENTRIES TUESDAYS–SUNDAYS • MARCH 1–29 \n100 POINTS = 1 Entry \nGRAND PRIZE DRAWING SATURDAY\, MARCH 29 • 9PM \nPLUS\, Club Ocean members can redeem one digital scratch card for every 100 points earned to win PRIZES!
URL:https://fenwickinn.com/event/25000-vault-of-riches/2025-03-20/
LOCATION:Ocean Downs Casino\, 10218 Racetrack Rd\, Berlin\, MD
CATEGORIES:OC Events
ATTACH;FMTTYPE=image/png:https://fenwickinn.com/wp-content/uploads/2025/03/cards-and-chips-in-sand.png
END:VEVENT
BEGIN:VEVENT
DTSTART;TZID=UTC:20250320T080000
DTEND;TZID=UTC:20250320T170000
DTSTAMP:20260419T183559
CREATED:20250320T202820Z
LAST-MODIFIED:20250320T202820Z
UID:10000857-1742457600-1742490000@fenwickinn.com
SUMMARY:Test
DESCRIPTION:
URL:https://fenwickinn.com/event/test/
CATEGORIES:Property Events
END:VEVENT
BEGIN:VEVENT
DTSTART;TZID=UTC:20250319T080000
DTEND;TZID=UTC:20250319T210000
DTSTAMP:20260419T183559
CREATED:20250318T180238Z
LAST-MODIFIED:20250318T181115Z
UID:10000846-1742371200-1742418000@fenwickinn.com
SUMMARY:$25\,000 Vault of Riches
DESCRIPTION:Get Lucky with A Chance to Win $25\,000 at Ocean Downs Casino \nEARN ENTRIES TUESDAYS–SUNDAYS • MARCH 1–29 \n100 POINTS = 1 Entry \nGRAND PRIZE DRAWING SATURDAY\, MARCH 29 • 9PM \nPLUS\, Club Ocean members can redeem one digital scratch card for every 100 points earned to win PRIZES!
URL:https://fenwickinn.com/event/25000-vault-of-riches/2025-03-19/
LOCATION:Ocean Downs Casino\, 10218 Racetrack Rd\, Berlin\, MD
CATEGORIES:OC Events
ATTACH;FMTTYPE=image/png:https://fenwickinn.com/wp-content/uploads/2025/03/cards-and-chips-in-sand.png
END:VEVENT
BEGIN:VEVENT
DTSTART;TZID=UTC:20250318T080000
DTEND;TZID=UTC:20250318T210000
DTSTAMP:20260419T183559
CREATED:20250318T180238Z
LAST-MODIFIED:20250318T181115Z
UID:10000845-1742284800-1742331600@fenwickinn.com
SUMMARY:$25\,000 Vault of Riches
DESCRIPTION:Get Lucky with A Chance to Win $25\,000 at Ocean Downs Casino \nEARN ENTRIES TUESDAYS–SUNDAYS • MARCH 1–29 \n100 POINTS = 1 Entry \nGRAND PRIZE DRAWING SATURDAY\, MARCH 29 • 9PM \nPLUS\, Club Ocean members can redeem one digital scratch card for every 100 points earned to win PRIZES!
URL:https://fenwickinn.com/event/25000-vault-of-riches/2025-03-18/
LOCATION:Ocean Downs Casino\, 10218 Racetrack Rd\, Berlin\, MD
CATEGORIES:OC Events
ATTACH;FMTTYPE=image/png:https://fenwickinn.com/wp-content/uploads/2025/03/cards-and-chips-in-sand.png
END:VEVENT
BEGIN:VEVENT
DTSTART;TZID=UTC:20250317T080000
DTEND;TZID=UTC:20250317T210000
DTSTAMP:20260419T183559
CREATED:20250318T180238Z
LAST-MODIFIED:20250318T181115Z
UID:10000450-1742198400-1742245200@fenwickinn.com
SUMMARY:$25\,000 Vault of Riches
DESCRIPTION:Get Lucky with A Chance to Win $25\,000 at Ocean Downs Casino \nEARN ENTRIES TUESDAYS–SUNDAYS • MARCH 1–29 \n100 POINTS = 1 Entry \nGRAND PRIZE DRAWING SATURDAY\, MARCH 29 • 9PM \nPLUS\, Club Ocean members can redeem one digital scratch card for every 100 points earned to win PRIZES!
URL:https://fenwickinn.com/event/25000-vault-of-riches/2025-03-17/
LOCATION:Ocean Downs Casino\, 10218 Racetrack Rd\, Berlin\, MD
CATEGORIES:OC Events
ATTACH;FMTTYPE=image/png:https://fenwickinn.com/wp-content/uploads/2025/03/cards-and-chips-in-sand.png
END:VEVENT
BEGIN:VEVENT
DTSTART;TZID=UTC:20250316T080000
DTEND;TZID=UTC:20250316T210000
DTSTAMP:20260419T183559
CREATED:20250318T180238Z
LAST-MODIFIED:20250318T181115Z
UID:10000449-1742112000-1742158800@fenwickinn.com
SUMMARY:$25\,000 Vault of Riches
DESCRIPTION:Get Lucky with A Chance to Win $25\,000 at Ocean Downs Casino \nEARN ENTRIES TUESDAYS–SUNDAYS • MARCH 1–29 \n100 POINTS = 1 Entry \nGRAND PRIZE DRAWING SATURDAY\, MARCH 29 • 9PM \nPLUS\, Club Ocean members can redeem one digital scratch card for every 100 points earned to win PRIZES!
URL:https://fenwickinn.com/event/25000-vault-of-riches/2025-03-16/
LOCATION:Ocean Downs Casino\, 10218 Racetrack Rd\, Berlin\, MD
CATEGORIES:OC Events
ATTACH;FMTTYPE=image/png:https://fenwickinn.com/wp-content/uploads/2025/03/cards-and-chips-in-sand.png
END:VEVENT
BEGIN:VEVENT
DTSTART;TZID=UTC:20250315T080000
DTEND;TZID=UTC:20250315T210000
DTSTAMP:20260419T183559
CREATED:20250318T180238Z
LAST-MODIFIED:20250318T181115Z
UID:10000448-1742025600-1742072400@fenwickinn.com
SUMMARY:$25\,000 Vault of Riches
DESCRIPTION:Get Lucky with A Chance to Win $25\,000 at Ocean Downs Casino \nEARN ENTRIES TUESDAYS–SUNDAYS • MARCH 1–29 \n100 POINTS = 1 Entry \nGRAND PRIZE DRAWING SATURDAY\, MARCH 29 • 9PM \nPLUS\, Club Ocean members can redeem one digital scratch card for every 100 points earned to win PRIZES!
URL:https://fenwickinn.com/event/25000-vault-of-riches/2025-03-15/
LOCATION:Ocean Downs Casino\, 10218 Racetrack Rd\, Berlin\, MD
CATEGORIES:OC Events
ATTACH;FMTTYPE=image/png:https://fenwickinn.com/wp-content/uploads/2025/03/cards-and-chips-in-sand.png
END:VEVENT
BEGIN:VEVENT
DTSTART;TZID=UTC:20250314T080000
DTEND;TZID=UTC:20250314T210000
DTSTAMP:20260419T183559
CREATED:20250318T180238Z
LAST-MODIFIED:20250318T181115Z
UID:10000447-1741939200-1741986000@fenwickinn.com
SUMMARY:$25\,000 Vault of Riches
DESCRIPTION:Get Lucky with A Chance to Win $25\,000 at Ocean Downs Casino \nEARN ENTRIES TUESDAYS–SUNDAYS • MARCH 1–29 \n100 POINTS = 1 Entry \nGRAND PRIZE DRAWING SATURDAY\, MARCH 29 • 9PM \nPLUS\, Club Ocean members can redeem one digital scratch card for every 100 points earned to win PRIZES!
URL:https://fenwickinn.com/event/25000-vault-of-riches/2025-03-14/
LOCATION:Ocean Downs Casino\, 10218 Racetrack Rd\, Berlin\, MD
CATEGORIES:OC Events
ATTACH;FMTTYPE=image/png:https://fenwickinn.com/wp-content/uploads/2025/03/cards-and-chips-in-sand.png
END:VEVENT
BEGIN:VEVENT
DTSTART;TZID=UTC:20250313T080000
DTEND;TZID=UTC:20250313T210000
DTSTAMP:20260419T183559
CREATED:20250318T180238Z
LAST-MODIFIED:20250318T181115Z
UID:10000446-1741852800-1741899600@fenwickinn.com
SUMMARY:$25\,000 Vault of Riches
DESCRIPTION:Get Lucky with A Chance to Win $25\,000 at Ocean Downs Casino \nEARN ENTRIES TUESDAYS–SUNDAYS • MARCH 1–29 \n100 POINTS = 1 Entry \nGRAND PRIZE DRAWING SATURDAY\, MARCH 29 • 9PM \nPLUS\, Club Ocean members can redeem one digital scratch card for every 100 points earned to win PRIZES!
URL:https://fenwickinn.com/event/25000-vault-of-riches/2025-03-13/
LOCATION:Ocean Downs Casino\, 10218 Racetrack Rd\, Berlin\, MD
CATEGORIES:OC Events
ATTACH;FMTTYPE=image/png:https://fenwickinn.com/wp-content/uploads/2025/03/cards-and-chips-in-sand.png
END:VEVENT
BEGIN:VEVENT
DTSTART;TZID=UTC:20250312T080000
DTEND;TZID=UTC:20250312T210000
DTSTAMP:20260419T183559
CREATED:20250318T180238Z
LAST-MODIFIED:20250318T181115Z
UID:10000445-1741766400-1741813200@fenwickinn.com
SUMMARY:$25\,000 Vault of Riches
DESCRIPTION:Get Lucky with A Chance to Win $25\,000 at Ocean Downs Casino \nEARN ENTRIES TUESDAYS–SUNDAYS • MARCH 1–29 \n100 POINTS = 1 Entry \nGRAND PRIZE DRAWING SATURDAY\, MARCH 29 • 9PM \nPLUS\, Club Ocean members can redeem one digital scratch card for every 100 points earned to win PRIZES!
URL:https://fenwickinn.com/event/25000-vault-of-riches/2025-03-12/
LOCATION:Ocean Downs Casino\, 10218 Racetrack Rd\, Berlin\, MD
CATEGORIES:OC Events
ATTACH;FMTTYPE=image/png:https://fenwickinn.com/wp-content/uploads/2025/03/cards-and-chips-in-sand.png
END:VEVENT
BEGIN:VEVENT
DTSTART;TZID=UTC:20250311T080000
DTEND;TZID=UTC:20250311T210000
DTSTAMP:20260419T183559
CREATED:20250318T180238Z
LAST-MODIFIED:20250318T181115Z
UID:10000444-1741680000-1741726800@fenwickinn.com
SUMMARY:$25\,000 Vault of Riches
DESCRIPTION:Get Lucky with A Chance to Win $25\,000 at Ocean Downs Casino \nEARN ENTRIES TUESDAYS–SUNDAYS • MARCH 1–29 \n100 POINTS = 1 Entry \nGRAND PRIZE DRAWING SATURDAY\, MARCH 29 • 9PM \nPLUS\, Club Ocean members can redeem one digital scratch card for every 100 points earned to win PRIZES!
URL:https://fenwickinn.com/event/25000-vault-of-riches/2025-03-11/
LOCATION:Ocean Downs Casino\, 10218 Racetrack Rd\, Berlin\, MD
CATEGORIES:OC Events
ATTACH;FMTTYPE=image/png:https://fenwickinn.com/wp-content/uploads/2025/03/cards-and-chips-in-sand.png
END:VEVENT
BEGIN:VEVENT
DTSTART;TZID=UTC:20250310T080000
DTEND;TZID=UTC:20250310T210000
DTSTAMP:20260419T183559
CREATED:20250318T180238Z
LAST-MODIFIED:20250318T181115Z
UID:10000443-1741593600-1741640400@fenwickinn.com
SUMMARY:$25\,000 Vault of Riches
DESCRIPTION:Get Lucky with A Chance to Win $25\,000 at Ocean Downs Casino \nEARN ENTRIES TUESDAYS–SUNDAYS • MARCH 1–29 \n100 POINTS = 1 Entry \nGRAND PRIZE DRAWING SATURDAY\, MARCH 29 • 9PM \nPLUS\, Club Ocean members can redeem one digital scratch card for every 100 points earned to win PRIZES!
URL:https://fenwickinn.com/event/25000-vault-of-riches/2025-03-10/
LOCATION:Ocean Downs Casino\, 10218 Racetrack Rd\, Berlin\, MD
CATEGORIES:OC Events
ATTACH;FMTTYPE=image/png:https://fenwickinn.com/wp-content/uploads/2025/03/cards-and-chips-in-sand.png
END:VEVENT
BEGIN:VEVENT
DTSTART;TZID=UTC:20250309T080000
DTEND;TZID=UTC:20250309T210000
DTSTAMP:20260419T183559
CREATED:20250318T180238Z
LAST-MODIFIED:20250318T181115Z
UID:10000442-1741507200-1741554000@fenwickinn.com
SUMMARY:$25\,000 Vault of Riches
DESCRIPTION:Get Lucky with A Chance to Win $25\,000 at Ocean Downs Casino \nEARN ENTRIES TUESDAYS–SUNDAYS • MARCH 1–29 \n100 POINTS = 1 Entry \nGRAND PRIZE DRAWING SATURDAY\, MARCH 29 • 9PM \nPLUS\, Club Ocean members can redeem one digital scratch card for every 100 points earned to win PRIZES!
URL:https://fenwickinn.com/event/25000-vault-of-riches/2025-03-09/
LOCATION:Ocean Downs Casino\, 10218 Racetrack Rd\, Berlin\, MD
CATEGORIES:OC Events
ATTACH;FMTTYPE=image/png:https://fenwickinn.com/wp-content/uploads/2025/03/cards-and-chips-in-sand.png
END:VEVENT
BEGIN:VEVENT
DTSTART;TZID=UTC:20250308T080000
DTEND;TZID=UTC:20250308T210000
DTSTAMP:20260419T183559
CREATED:20250318T180238Z
LAST-MODIFIED:20250318T181115Z
UID:10000441-1741420800-1741467600@fenwickinn.com
SUMMARY:$25\,000 Vault of Riches
DESCRIPTION:Get Lucky with A Chance to Win $25\,000 at Ocean Downs Casino \nEARN ENTRIES TUESDAYS–SUNDAYS • MARCH 1–29 \n100 POINTS = 1 Entry \nGRAND PRIZE DRAWING SATURDAY\, MARCH 29 • 9PM \nPLUS\, Club Ocean members can redeem one digital scratch card for every 100 points earned to win PRIZES!
URL:https://fenwickinn.com/event/25000-vault-of-riches/2025-03-08/
LOCATION:Ocean Downs Casino\, 10218 Racetrack Rd\, Berlin\, MD
CATEGORIES:OC Events
ATTACH;FMTTYPE=image/png:https://fenwickinn.com/wp-content/uploads/2025/03/cards-and-chips-in-sand.png
END:VEVENT
BEGIN:VEVENT
DTSTART;TZID=UTC:20250307T080000
DTEND;TZID=UTC:20250307T210000
DTSTAMP:20260419T183559
CREATED:20250318T180238Z
LAST-MODIFIED:20250318T181115Z
UID:10000440-1741334400-1741381200@fenwickinn.com
SUMMARY:$25\,000 Vault of Riches
DESCRIPTION:Get Lucky with A Chance to Win $25\,000 at Ocean Downs Casino \nEARN ENTRIES TUESDAYS–SUNDAYS • MARCH 1–29 \n100 POINTS = 1 Entry \nGRAND PRIZE DRAWING SATURDAY\, MARCH 29 • 9PM \nPLUS\, Club Ocean members can redeem one digital scratch card for every 100 points earned to win PRIZES!
URL:https://fenwickinn.com/event/25000-vault-of-riches/2025-03-07/
LOCATION:Ocean Downs Casino\, 10218 Racetrack Rd\, Berlin\, MD
CATEGORIES:OC Events
ATTACH;FMTTYPE=image/png:https://fenwickinn.com/wp-content/uploads/2025/03/cards-and-chips-in-sand.png
END:VEVENT
BEGIN:VEVENT
DTSTART;TZID=UTC:20250306T080000
DTEND;TZID=UTC:20250306T210000
DTSTAMP:20260419T183559
CREATED:20250318T180238Z
LAST-MODIFIED:20250318T181115Z
UID:10000439-1741248000-1741294800@fenwickinn.com
SUMMARY:$25\,000 Vault of Riches
DESCRIPTION:Get Lucky with A Chance to Win $25\,000 at Ocean Downs Casino \nEARN ENTRIES TUESDAYS–SUNDAYS • MARCH 1–29 \n100 POINTS = 1 Entry \nGRAND PRIZE DRAWING SATURDAY\, MARCH 29 • 9PM \nPLUS\, Club Ocean members can redeem one digital scratch card for every 100 points earned to win PRIZES!
URL:https://fenwickinn.com/event/25000-vault-of-riches/2025-03-06/
LOCATION:Ocean Downs Casino\, 10218 Racetrack Rd\, Berlin\, MD
CATEGORIES:OC Events
ATTACH;FMTTYPE=image/png:https://fenwickinn.com/wp-content/uploads/2025/03/cards-and-chips-in-sand.png
END:VEVENT
BEGIN:VEVENT
DTSTART;TZID=UTC:20250305T080000
DTEND;TZID=UTC:20250305T210000
DTSTAMP:20260419T183559
CREATED:20250318T180238Z
LAST-MODIFIED:20250318T181115Z
UID:10000438-1741161600-1741208400@fenwickinn.com
SUMMARY:$25\,000 Vault of Riches
DESCRIPTION:Get Lucky with A Chance to Win $25\,000 at Ocean Downs Casino \nEARN ENTRIES TUESDAYS–SUNDAYS • MARCH 1–29 \n100 POINTS = 1 Entry \nGRAND PRIZE DRAWING SATURDAY\, MARCH 29 • 9PM \nPLUS\, Club Ocean members can redeem one digital scratch card for every 100 points earned to win PRIZES!
URL:https://fenwickinn.com/event/25000-vault-of-riches/2025-03-05/
LOCATION:Ocean Downs Casino\, 10218 Racetrack Rd\, Berlin\, MD
CATEGORIES:OC Events
ATTACH;FMTTYPE=image/png:https://fenwickinn.com/wp-content/uploads/2025/03/cards-and-chips-in-sand.png
END:VEVENT
BEGIN:VEVENT
DTSTART;TZID=UTC:20250304T080000
DTEND;TZID=UTC:20250304T210000
DTSTAMP:20260419T183559
CREATED:20250318T180238Z
LAST-MODIFIED:20250318T181115Z
UID:10000437-1741075200-1741122000@fenwickinn.com
SUMMARY:$25\,000 Vault of Riches
DESCRIPTION:Get Lucky with A Chance to Win $25\,000 at Ocean Downs Casino \nEARN ENTRIES TUESDAYS–SUNDAYS • MARCH 1–29 \n100 POINTS = 1 Entry \nGRAND PRIZE DRAWING SATURDAY\, MARCH 29 • 9PM \nPLUS\, Club Ocean members can redeem one digital scratch card for every 100 points earned to win PRIZES!
URL:https://fenwickinn.com/event/25000-vault-of-riches/2025-03-04/
LOCATION:Ocean Downs Casino\, 10218 Racetrack Rd\, Berlin\, MD
CATEGORIES:OC Events
ATTACH;FMTTYPE=image/png:https://fenwickinn.com/wp-content/uploads/2025/03/cards-and-chips-in-sand.png
END:VEVENT
END:VCALENDAR