BEGIN:VCALENDAR
VERSION:2.0
PRODID:-//Fenwick Inn - ECPv6.15.0//NONSGML v1.0//EN
CALSCALE:GREGORIAN
METHOD:PUBLISH
X-ORIGINAL-URL:https://fenwickinn.com
X-WR-CALDESC:Events for Fenwick Inn
REFRESH-INTERVAL;VALUE=DURATION:PT1H
X-Robots-Tag:noindex
X-PUBLISHED-TTL:PT1H
BEGIN:VTIMEZONE
TZID:America/New_York
BEGIN:DAYLIGHT
TZOFFSETFROM:-0500
TZOFFSETTO:-0400
TZNAME:EDT
DTSTART:20250309T070000
END:DAYLIGHT
BEGIN:STANDARD
TZOFFSETFROM:-0400
TZOFFSETTO:-0500
TZNAME:EST
DTSTART:20251102T060000
END:STANDARD
END:VTIMEZONE
BEGIN:VEVENT
DTSTART;TZID=America/New_York:20251024T200000
DTEND;TZID=America/New_York:20251024T230000
DTSTAMP:20260419T144403
CREATED:20251013T183322Z
LAST-MODIFIED:20251013T183445Z
UID:10000961-1761336000-1761346800@fenwickinn.com
SUMMARY:Halloween Party and Costume Contest
DESCRIPTION:Friday\, October 24th. at 8pm in the Fenwick Inn Lookout Loft.
URL:https://fenwickinn.com/event/halloween-party-and-costume-party/
END:VEVENT
END:VCALENDAR